BEGIN:VCALENDAR
VERSION:2.0
PRODID:-//Tukios.com/
BEGIN:VEVENT
UID:14ee8c4b-8e79-48e8-8baf-1e179f04473d@www.mahnfamilyfuneralhome.com
DTSTAMP:20260424T202532Z
DTSTART:20260604T190000Z
DTEND:20260604T200000Z
SUMMARY:Celebration of Life
DESCRIPTION:
URL:https://www.mahnfamilyfuneralhome.com/obituaries/joyce-gibbs
LOCATION:Christ United Methodist Church  400 5th Avenue Southwest  
	Rochester MN 55902
GEO:44.0186872;-92.4693088
END:VEVENT
END:VCALENDAR