BEGIN:VCALENDAR
VERSION:2.0
PRODID:-//Tukios.com/
BEGIN:VEVENT
UID:091c75d0-d78a-4bfd-b3db-ca32628e75ff@www.mahnfamilyfuneralhome.com
DTSTAMP:20260424T202532Z
DTSTART:20260604T180000Z
DTEND:20260604T190000Z
SUMMARY:Visitation
DESCRIPTION:
URL:https://www.mahnfamilyfuneralhome.com/obituaries/joyce-gibbs
LOCATION:Christ United Methodist Church  400 5th Avenue Southwest  
	Rochester MN 55902
GEO:44.0186872;-92.4693088
END:VEVENT
END:VCALENDAR