BEGIN:VCALENDAR
VERSION:2.0
PRODID:-//Tukios.com/
BEGIN:VEVENT
UID:ea8128e8-e5a2-448c-a9fb-6f9131b545e4@www.mahnfamilyfuneralhome.com
DTSTAMP:20260420T221131Z
DTSTART:20260424T150000Z
DTEND:20260424T163000Z
SUMMARY:Memorial Gathering with a Time of Sharing
DESCRIPTION:
URL:https://www.mahnfamilyfuneralhome.com/obituaries/steven-jacobson
LOCATION:Mahn Family Funeral Home, Bodelson-Mahn Chapel 602 Plum Street  
	Red Wing MN 55066
GEO:44.5635729;-92.529832
END:VEVENT
END:VCALENDAR