BEGIN:VCALENDAR
VERSION:2.0
PRODID:-//Tukios.com/
BEGIN:VEVENT
UID:1e32b476-b3ba-4342-be27-ee0b49b7c296@www.mahnfamilyfuneralhome.com
DTSTAMP:20260422T025941Z
DTSTART:20260426T200000Z
DTEND:20260426T210000Z
SUMMARY:Memorial Service
DESCRIPTION:
URL:https://www.mahnfamilyfuneralhome.com/obituaries/steven-schwen
LOCATION:Oak Center General Store 67011 U.S. 63  Lake City MN 55041
GEO:44.3541825;-92.4006409
END:VEVENT
END:VCALENDAR