BEGIN:VCALENDAR
VERSION:2.0
PRODID:-//Tukios.com/
BEGIN:VEVENT
UID:38859fd3-2898-43b6-ae5d-f42d1fdb64e5@www.mahnfamilyfuneralhome.com
DTSTAMP:20260420T232211Z
DTSTART:20260424T160000Z
DTEND:20260424T170000Z
SUMMARY:Funeral Service
DESCRIPTION:
URL:https://www.mahnfamilyfuneralhome.com/obituaries/verna-anderson
LOCATION:Christ Lutheran Church 555 East Ave  Zumbrota MN 55992
GEO:44.2920332;-92.6674574
END:VEVENT
END:VCALENDAR