BEGIN:VCALENDAR
VERSION:2.0
PRODID:-//Tukios.com/
BEGIN:VEVENT
UID:6141e8d4-1d36-4ec7-8de5-18832dc7d30b@www.mahnfamilyfuneralhome.com
DTSTAMP:20260420T232911Z
DTSTART:20260424T150000Z
DTEND:20260424T160000Z
SUMMARY:Visitation
DESCRIPTION:
URL:https://www.mahnfamilyfuneralhome.com/obituaries/verna-anderson
LOCATION:Christ Lutheran Church 555 East Ave  Zumbrota MN 55992
GEO:44.2920332;-92.6674574
END:VEVENT
END:VCALENDAR