BEGIN:VCALENDAR
VERSION:2.0
PRODID:-//Tukios.com/
BEGIN:VEVENT
UID:865d9ef9-7ec3-48e2-862a-91b9c05f053a@www.mahnfamilyfuneralhome.com
DTSTAMP:20260423T002106Z
DTSTART:20260427
SUMMARY:Graveside Service
DESCRIPTION:
URL:https://www.mahnfamilyfuneralhome.com/obituaries/winifred-pralle
LOCATION:Oakwood Cemetery - Rochester 38 7th Avenue NE  Rochester MN 
	55906
GEO:44.0247185;-92.4536048
END:VEVENT
END:VCALENDAR