BEGIN:VCALENDAR
VERSION:2.0
PRODID:-//Tukios.com/
BEGIN:VEVENT
UID:5c8fa5ba-a073-4d4d-ac6b-19e721e4fd4f@www.mahnfamilyfuneralhome.com
DTSTAMP:20260423T002757Z
DTSTART:20260427T140000Z
DTEND:20260427T150000Z
SUMMARY:Visitation
DESCRIPTION:
URL:https://www.mahnfamilyfuneralhome.com/obituaries/winifred-pralle
LOCATION:St. Paul Lutheran Church 214 3rd St. SW  Pine Island MN 55963
GEO:44.2008111;-92.648729
END:VEVENT
END:VCALENDAR