BEGIN:VCALENDAR
VERSION:2.0
PRODID:-//Tukios.com/
BEGIN:VEVENT
UID:208daf9b-0455-475d-b37e-6f5b05d9600d@www.mahnfamilyfuneralhome.com
DTSTAMP:20260423T002600Z
DTSTART:20260427T150000Z
DTEND:20260427T160000Z
SUMMARY:Funeral Service
DESCRIPTION:
URL:https://www.mahnfamilyfuneralhome.com/obituaries/winifred-pralle
LOCATION:St. Paul Lutheran Church 214 3rd St. SW  Pine Island MN 55963
GEO:44.2008111;-92.648729
END:VEVENT
END:VCALENDAR